BEGIN:VCALENDAR
VERSION:2.0
PRODID:-//AMSE//Event Calendar//FR
CALSCALE:GREGORIAN
METHOD:PUBLISH
BEGIN:VEVENT
UID:event-12473@www.amse-aixmarseille.fr
DTSTAMP:20260422T125749Z
CREATED:20260422T125749Z
LAST-MODIFIED:20260422T125749Z
STATUS:CONFIRMED
SEQUENCE:0
SUMMARY:Macro and labor market seminar - Luisa Fuster
DTSTART:20251016T123000Z
DTEND:20251016T133000Z
DESCRIPTION:We study the forces driving polarization and higher wage inequa
 lity since 1980 using aÂ structural model of occupation choice in the tradi
 tion of Roy (1951). In our model\, changes inÂ relative occupational skill 
 prices proxy for changes in relative demand for occupational laborÂ service
 s. Our analysis yields three main findings. First\, although changes in ski
 ll prices haveÂ quantitatively important effects on employment shares and m
 ean wages\, they play essentiallyÂ no role in accounting for the sharp rise
  in wage inequality. Second\, changes in relative wagesÂ are driven by chan
 ges in higher order moments and do not reflect changes in relative demand.Â
  Third\, changes in the variance of idiosyncratic within occupation product
 ivity are the dominantÂ factor behind the sharp rise in inequality.\\n\\nCo
 ntact: Marco Fongoni : marco.fongoni[at]univ-amu.frAlexandros Loukas : alex
 andros.loukas[at]univ-amu.fr\n\nPlus d'informations: https://www.amse-aixma
 rseille.fr/fr/evenements/luisa-fuster
LOCATION:ÃŽlot Bernard du Bois - Salle 16\, AMU - AMSE\, 5-9 boulevard Maur
 ice Bourdet\, 13001 Marseille
URL;VALUE=URI:https://www.amse-aixmarseille.fr/fr/evenements/luisa-fuster
CONTACT:Marco Fongoni : marco.fongoni[at]univ-amu.frAlexandros Loukas : ale
 xandros.loukas[at]univ-amu.fr
TRANSP:OPAQUE
END:VEVENT
END:VCALENDAR
