BEGIN:VCALENDAR
VERSION:2.0
PRODID:-//AMSE//Event Calendar//FR
CALSCALE:GREGORIAN
METHOD:PUBLISH
BEGIN:VEVENT
UID:event-12475@www.amse-aixmarseille.fr
DTSTAMP:20260421T134933Z
CREATED:20260421T134933Z
LAST-MODIFIED:20260421T134933Z
STATUS:CONFIRMED
SEQUENCE:0
SUMMARY:Macro and labor market seminar - Katharina Erhardt
DTSTART:20251113T133000Z
DTEND:20251113T143000Z
DESCRIPTION:This paper studies heterogeneous firm responses to the sudden p
 rofitability shock from the 2015 Swiss franc appreciation. Using firm-level
  investment data\, we show that affected firms experience large and persist
 ent investment declines. Among equally exposed firms\, heterogeneity is not
  explained by fundamentals but is strongly linked to firm age and manageria
 l experience: younger firms and those led by less experienced managers reac
 t much more strongly. We interpret these patterns through a Bayesian learni
 ng framework\, in which firms update beliefs about profitability over time.
  The results highlight how trade shocks shape business dynamism\, capital i
 nvestment\, and employment.\\n\\nContact: Marco Fongoni : marco.fongoni[at]
 univ-amu.frAlexandros Loukas : alexandros.loukas[at]univ-amu.fr\n\nPlus d'i
 nformations: https://www.amse-aixmarseille.fr/fr/evenements/katharina-erhar
 dt
LOCATION:MEGA - Salle Carine Nourry\, 424\, Chemin du Viaduc\, 13080 Aix-en
 -Provence
URL;VALUE=URI:https://www.amse-aixmarseille.fr/fr/evenements/katharina-erhardt
CONTACT:Marco Fongoni : marco.fongoni[at]univ-amu.frAlexandros Loukas : ale
 xandros.loukas[at]univ-amu.fr
TRANSP:OPAQUE
END:VEVENT
END:VCALENDAR
