BEGIN:VCALENDAR
VERSION:2.0
PRODID:-//AMSE//Event Calendar//FR
CALSCALE:GREGORIAN
METHOD:PUBLISH
BEGIN:VEVENT
UID:event-12481@www.amse-aixmarseille.fr
DTSTAMP:20260421T122127Z
CREATED:20260421T122127Z
LAST-MODIFIED:20260421T122127Z
STATUS:CONFIRMED
SEQUENCE:0
SUMMARY:amse seminar - Julien Combe
DTSTART:20251103T103000Z
DTEND:20251103T114500Z
DESCRIPTION:Centralized (re)assignment of workers to jobs is increasingly c
 ommon in public and private sectors. However\, these markets often suffer f
 rom distributional problems. We propose a new strategy-proof mechanism that
  efficiently improves individual and distributional welfare over the status
  quo. We justify our constructive and practical approach by micro-founding 
 it through the theory of inequality measures in welfare economics. To evalu
 ate the performance of our mechanism\, we focus on teacher (re)assignment\,
  where the unequal distribution of experienced teachers across schools is a
  well-documented concern. Using French data\, we demonstrate that our mecha
 nism reduces the teacher experience gap across regions more effectively tha
 n benchmarks\, including the current mechanism\, while providing higher ave
 rage welfare for teachers.\\n\\nContact: Ségal Le Guern Herry : segal.le-
 guern-herry[at]univ-amu.frMorgan Raux : morgan.raux[at]univ-amu.fr\n\nPlus
  d'informations: https://www.amse-aixmarseille.fr/fr/evenements/julien-comb
 e-1
LOCATION:Îlot Bernard du Bois - Amphithéâtre\, AMU - AMSE\, 5-9 boulevar
 d Maurice Bourdet\, 13001 Marseille
URL;VALUE=URI:https://www.amse-aixmarseille.fr/fr/evenements/julien-combe-1
CONTACT:Ségal Le Guern Herry :&nbsp\;segal.le-guern-herry[at]univ-amu.frMo
 rgan Raux :&nbsp\;morgan.raux[at]univ-amu.fr
TRANSP:OPAQUE
END:VEVENT
END:VCALENDAR
