BEGIN:VCALENDAR
VERSION:2.0
PRODID:-//AMSE//Event Calendar//FR
CALSCALE:GREGORIAN
METHOD:PUBLISH
BEGIN:VEVENT
UID:event-12520@www.amse-aixmarseille.fr
DTSTAMP:20260421T122128Z
CREATED:20260421T122128Z
LAST-MODIFIED:20260421T122128Z
STATUS:CONFIRMED
SEQUENCE:0
SUMMARY:Inter-eval seminar - Christophe Le Page\, Tamara Pascutto
DTSTART:20251010T111500Z
DTEND:20251010T124500Z
DESCRIPTION:\\n\\nContact: Alice Fabre : alice.fabre[at]univ-amu.fr\n\nPlus
  d'informations: https://www.amse-aixmarseille.fr/fr/evenements/christophe-
 le-page-tamara-pascutto
LOCATION:MEGA - Salle Carine Nourry\, 424\, Chemin du Viaduc\, 13080 Aix-en
 -Provence
URL;VALUE=URI:https://www.amse-aixmarseille.fr/fr/evenements/christophe-le-page-tamara-pascutto
CONTACT:Alice Fabre : alice.fabre[at]univ-amu.fr
TRANSP:OPAQUE
END:VEVENT
END:VCALENDAR
