BEGIN:VCALENDAR
VERSION:2.0
PRODID:-//AMSE//Event Calendar//FR
CALSCALE:GREGORIAN
METHOD:PUBLISH
BEGIN:VEVENT
UID:event-12568@www.amse-aixmarseille.fr
DTSTAMP:20260421T122128Z
CREATED:20260421T122128Z
LAST-MODIFIED:20260421T122128Z
STATUS:CONFIRMED
SEQUENCE:0
SUMMARY:French-Japanese webinar - Brice Magdalou
DTSTART:20251010T080000Z
DTEND:20251010T090000Z
DESCRIPTION:\\n\\nContact: Gilles Dufrénot : gilles.dufrenot[at]sciencespo
 -aix.frKiyotaka Sato : sato[at]ynu.ac.jp\n\nPlus d'informations: https://ww
 w.amse-aixmarseille.fr/fr/evenements/brice-magdalou
URL;VALUE=URI:https://www.amse-aixmarseille.fr/fr/evenements/brice-magdalou
CONTACT:Gilles Dufrénot : gilles.dufrenot[at]sciencespo-aix.frKiyotaka Sat
 o : sato[at]ynu.ac.jp
TRANSP:OPAQUE
END:VEVENT
END:VCALENDAR
