BEGIN:VCALENDAR
VERSION:2.0
PRODID:-//AMSE//Event Calendar//FR
CALSCALE:GREGORIAN
METHOD:PUBLISH
BEGIN:VEVENT
UID:event-12614@www.amse-aixmarseille.fr
DTSTAMP:20260421T184033Z
CREATED:20260421T184033Z
LAST-MODIFIED:20260421T184033Z
STATUS:CONFIRMED
SEQUENCE:0
SUMMARY:soutenances de thèse - Santiago Lopez
DTSTART:20251209T130000Z
DTEND:20251209T130000Z
DESCRIPTION:Plus d'informations: https://www.amse-aixmarseille.fr/fr/evenem
 ents/santiago-lopez
LOCATION:Îlot Bernard du Bois - Amphithéâtre\, AMU - AMSE\, 5-9 boulevar
 d Maurice Bourdet\, 13001 Marseille
URL;VALUE=URI:https://www.amse-aixmarseille.fr/fr/evenements/santiago-lopez
TRANSP:OPAQUE
END:VEVENT
END:VCALENDAR
