BEGIN:VCALENDAR
VERSION:2.0
PRODID:-//AMSE//Event Calendar//FR
CALSCALE:GREGORIAN
METHOD:PUBLISH
BEGIN:VEVENT
UID:event-12616@www.amse-aixmarseille.fr
DTSTAMP:20260421T195601Z
CREATED:20260421T195601Z
LAST-MODIFIED:20260421T195601Z
STATUS:CONFIRMED
SEQUENCE:0
SUMMARY:soutenances de thèse - Nathan Vieira
DTSTART:20251211T090000Z
DTEND:20251211T090000Z
DESCRIPTION:Plus d'informations: https://www.amse-aixmarseille.fr/fr/evenem
 ents/nathan-vieira-3
LOCATION:MEGA - Salle Carine Nourry\, 424\, Chemin du Viaduc\, 13080 Aix-en
 -Provence
URL;VALUE=URI:https://www.amse-aixmarseille.fr/fr/evenements/nathan-vieira-3
TRANSP:OPAQUE
END:VEVENT
END:VCALENDAR
