BEGIN:VCALENDAR
VERSION:2.0
PRODID:-//AMSE//Event Calendar//FR
CALSCALE:GREGORIAN
METHOD:PUBLISH
BEGIN:VEVENT
UID:event-12625@www.amse-aixmarseille.fr
DTSTAMP:20260421T163216Z
CREATED:20260421T163216Z
LAST-MODIFIED:20260421T163216Z
STATUS:CONFIRMED
SEQUENCE:0
SUMMARY:enseignement - 10 ans de l'école AMSE
DTSTART:20251129T124500Z
DTEND:20251129T124500Z
DESCRIPTION:\\n\\nContact: 10ans[at]amse-aixmarseille.fr\n\nPlus d'informat
 ions: https://www.amse-aixmarseille.fr/fr/evenements/10-ans-de-l%C3%A9cole-
 amse
LOCATION:Éco-campus La Pauliane - Amphi 1\, Faculté d'Économie et de Ges
 tion \, 424\, Chemin du Viaduc\, 13080 Aix-en-Provence
URL;VALUE=URI:https://www.amse-aixmarseille.fr/fr/evenements/10-ans-de-l%C3%A9cole-amse
CONTACT:10ans[at]amse-aixmarseille.fr
TRANSP:OPAQUE
END:VEVENT
END:VCALENDAR
