BEGIN:VCALENDAR
VERSION:2.0
PRODID:-//AMSE//Event Calendar//FR
CALSCALE:GREGORIAN
METHOD:PUBLISH
BEGIN:VEVENT
UID:event-12631@www.amse-aixmarseille.fr
DTSTAMP:20260421T135005Z
CREATED:20260421T135005Z
LAST-MODIFIED:20260421T135005Z
STATUS:CONFIRMED
SEQUENCE:0
SUMMARY:Practice job talks - Betül Türküm
DTSTART:20251114T130000Z
DTEND:20251114T140000Z
DESCRIPTION:\\n\\nContact: Timothée Demont : timothee.demont[at]univ-amu.f
 rPaolo Melindi-Ghidi : paolo.melindi-ghidi[at]univ-amu.fr\n\nPlus d'inform
 ations: https://www.amse-aixmarseille.fr/fr/evenements/bet%C3%BCl-t%C3%BCrk
 %C3%BCm
LOCATION:Îlot Bernard du Bois - Salle 21\, AMU - AMSE\, 5-9 boulevard Maur
 ice Bourdet\, 13001 Marseille
URL;VALUE=URI:https://www.amse-aixmarseille.fr/fr/evenements/bet%C3%BCl-t%C3%BCrk%C3%BCm
CONTACT:Timothée Demont : timothee.demont[at]univ-amu.frPaolo Melindi-Ghid
 i :&nbsp\;paolo.melindi-ghidi[at]univ-amu.fr
TRANSP:OPAQUE
END:VEVENT
END:VCALENDAR
