BEGIN:VCALENDAR
VERSION:2.0
PRODID:-//AMSE//Event Calendar//FR
CALSCALE:GREGORIAN
METHOD:PUBLISH
BEGIN:VEVENT
UID:event-12647@www.amse-aixmarseille.fr
DTSTAMP:20260421T182811Z
CREATED:20260421T182811Z
LAST-MODIFIED:20260421T182811Z
STATUS:CONFIRMED
SEQUENCE:0
SUMMARY:Practice job talks - Aliénor Bisantis
DTSTART:20251201T090000Z
DTEND:20251201T100000Z
DESCRIPTION:\\n\\nContact: Timothée Demont : timothee.demont[at]univ-amu.f
 rPaolo Melindi-Ghidi : paolo.melindi-ghidi[at]univ-amu.fr\n\nPlus d'inform
 ations: https://www.amse-aixmarseille.fr/fr/evenements/ali%C3%A9nor-bisanti
 s-3
LOCATION:Îlot Bernard du Bois - Salle 16\, AMU - AMSE\, 5-9 boulevard Maur
 ice Bourdet\, 13001 Marseille
URL;VALUE=URI:https://www.amse-aixmarseille.fr/fr/evenements/ali%C3%A9nor-bisantis-3
CONTACT:Timothée Demont : timothee.demont[at]univ-amu.frPaolo Melindi-Ghid
 i :&nbsp\;paolo.melindi-ghidi[at]univ-amu.fr
TRANSP:OPAQUE
END:VEVENT
END:VCALENDAR
