BEGIN:VCALENDAR
VERSION:2.0
PRODID:-//AMSE//Event Calendar//FR
CALSCALE:GREGORIAN
METHOD:PUBLISH
BEGIN:VEVENT
UID:event-12657@www.amse-aixmarseille.fr
DTSTAMP:20260421T152506Z
CREATED:20260421T152506Z
LAST-MODIFIED:20260421T152506Z
STATUS:CONFIRMED
SEQUENCE:0
SUMMARY:enseignement - Afterwork APESA
DTSTART:20251118T173000Z
DTEND:20251118T183000Z
DESCRIPTION:\\n\\nContact: communication[at]amse-aixmarseille.fr\n\nPlus d'
 informations: https://www.amse-aixmarseille.fr/fr/evenements/afterwork-apes
 a
URL;VALUE=URI:https://www.amse-aixmarseille.fr/fr/evenements/afterwork-apesa
CONTACT:communication[at]amse-aixmarseille.fr
TRANSP:OPAQUE
END:VEVENT
END:VCALENDAR
