BEGIN:VCALENDAR
VERSION:2.0
PRODID:-//AMSE//Event Calendar//FR
CALSCALE:GREGORIAN
METHOD:PUBLISH
BEGIN:VEVENT
UID:event-12703@www.amse-aixmarseille.fr
DTSTAMP:20260421T200442Z
CREATED:20260421T200442Z
LAST-MODIFIED:20260421T200442Z
STATUS:CONFIRMED
SEQUENCE:0
SUMMARY:conférences/workshops - Workshop "The economics of women and child
 ren"
DTSTART:20251212T080000Z
DTEND:20251212T150000Z
DESCRIPTION:\\n\\nContact: Roberta Ziparo : roberta.ziparo[at]univ-amu.fr\n
 \nPlus d'informations: https://www.amse-aixmarseille.fr/fr/evenements/works
 hop-economics-women-and-children
LOCATION:Îlot Bernard du Bois - Amphithéâtre\, AMU - AMSE\, 5-9 boulevar
 d Maurice Bourdet\, 13001 Marseille
URL;VALUE=URI:https://www.amse-aixmarseille.fr/fr/evenements/workshop-economics-women-and-children
CONTACT:Roberta Ziparo : roberta.ziparo[at]univ-amu.fr
TRANSP:OPAQUE
END:VEVENT
END:VCALENDAR
