BEGIN:VCALENDAR
VERSION:2.0
PRODID:-//AMSE//Event Calendar//FR
CALSCALE:GREGORIAN
METHOD:PUBLISH
BEGIN:VEVENT
UID:event-12712@www.amse-aixmarseille.fr
DTSTAMP:20260422T002416Z
CREATED:20260422T002416Z
LAST-MODIFIED:20260422T002416Z
STATUS:CONFIRMED
SEQUENCE:0
SUMMARY:finance seminar - Cumhur Eckinsi
DTSTART:20251216T093000Z
DTEND:20251216T110000Z
DESCRIPTION:In the last two decades\, high-frequency trading (HFT) has beco
 me a common financial market practice. Its impacts on market efficiency\, l
 iquidity and volatility are investigated and discussed across the globe. Wh
 ile this research is mostly concentrated on equity markets\, aspects relate
 d to futures market are also of interest. In this paper\, we study the effe
 cts of high-frequency trading (HFT) on price volatility in Borsa Istanbul i
 ndex futures market. More specifically\, departing from tick-by-tick order 
 and transaction data of futures contracts\, we measure the share of HFT wit
 hin all the transactions and order flows. We examine the interaction betwee
 n low-latency trading and volatility across the entire sample as well as fo
 r the subsamples where volatility is already high and low. Preliminary resu
 lts show that HFT increases volatility on trading days with negative return
 s in stable market conditions. However\, no similar impact is found in time
 s of increased market stress and extreme volatility.\\n\\nContact: Eric Gir
 ardin : eric.girardin[at]univ-amu.frGaël Leboeuf : gael.leboeuf[at]univ-am
 u.frChristelle Lecourt : christelle.lecourt[at]univ-amu.fr\n\nPlus d'inform
 ations: https://www.amse-aixmarseille.fr/fr/evenements/cumhur-eckinsi
LOCATION:MEGA
URL;VALUE=URI:https://www.amse-aixmarseille.fr/fr/evenements/cumhur-eckinsi
CONTACT:Eric Girardin : eric.girardin[at]univ-amu.frGaël Leboeuf : gael.le
 boeuf[at]univ-amu.frChristelle Lecourt : christelle.lecourt[at]univ-amu.fr
TRANSP:OPAQUE
END:VEVENT
END:VCALENDAR
