BEGIN:VCALENDAR
VERSION:2.0
PRODID:-//AMSE//Event Calendar//FR
CALSCALE:GREGORIAN
METHOD:PUBLISH
BEGIN:VEVENT
UID:event-12734@www.amse-aixmarseille.fr
DTSTAMP:20260422T215019Z
CREATED:20260422T215019Z
LAST-MODIFIED:20260422T215019Z
STATUS:CONFIRMED
SEQUENCE:0
SUMMARY:French-Japanese webinar - Mizuki Goto
DTSTART:20251212T090000Z
DTEND:20251212T100000Z
DESCRIPTION:\\n\\nContact: Gilles Dufrénot : gilles.dufrenot[at]sciencespo
 -aix.frKiyotaka Sato : sato[at]ynu.ac.jp\n\nPlus d'informations: https://ww
 w.amse-aixmarseille.fr/fr/evenements/mizuki-goto
URL;VALUE=URI:https://www.amse-aixmarseille.fr/fr/evenements/mizuki-goto
CONTACT:Gilles Dufrénot : gilles.dufrenot[at]sciencespo-aix.frKiyotaka Sat
 o : sato[at]ynu.ac.jp
TRANSP:OPAQUE
END:VEVENT
END:VCALENDAR
