BEGIN:VCALENDAR
VERSION:2.0
PRODID:-//AMSE//Event Calendar//FR
CALSCALE:GREGORIAN
METHOD:PUBLISH
BEGIN:VEVENT
UID:event-12757@www.amse-aixmarseille.fr
DTSTAMP:20260421T132536Z
CREATED:20260421T132536Z
LAST-MODIFIED:20260421T132536Z
STATUS:CONFIRMED
SEQUENCE:0
SUMMARY:enseignement - Table ronde "Risques climatiques : un nouveau risque
  financier systémique"
DTSTART:20260128T160000Z
DTEND:20260128T160000Z
DESCRIPTION:\\n\\nContact: Patricia Augier : patricia.augier[at]univ-amu.fr
 Christelle Lecourt : christelle.lecourt[at]univ-amu.fr\n\nPlus d'informatio
 ns: https://www.amse-aixmarseille.fr/fr/evenements/conf%C3%A9rence-risques-
 climatiques-nouveau-risque-financier
LOCATION:Éco-campus La Pauliane - Amphi 3\, Faculté d'Économie et de Ges
 tion \, 424\, Chemin du Viaduc\, 13080 Aix-en-Provence
URL;VALUE=URI:https://www.amse-aixmarseille.fr/fr/evenements/conf%C3%A9rence-risques-climatiques-nouveau-risque-financier
CONTACT:Patricia Augier : patricia.augier[at]univ-amu.frChristelle Lecourt 
 : christelle.lecourt[at]univ-amu.fr
TRANSP:OPAQUE
END:VEVENT
END:VCALENDAR
