BEGIN:VCALENDAR
VERSION:2.0
PRODID:-//AMSE//Event Calendar//FR
CALSCALE:GREGORIAN
METHOD:PUBLISH
BEGIN:VEVENT
UID:event-7992@www.amse-aixmarseille.fr
DTSTAMP:20260423T153940Z
CREATED:20260423T153940Z
LAST-MODIFIED:20260423T153940Z
STATUS:CONFIRMED
SEQUENCE:0
SUMMARY:amse seminar - David Crainich
DTSTART:20210531T093000Z
DTEND:20210531T104500Z
DESCRIPTION:Several programs associating financial gains with the achieveme
 nt of weight loss objectives have been set up over the last decade. These p
 rograms seem to produce mixed effects\, possibly because their designs diff
 er both in terms of the objectives assigned to the participants and the amo
 unts awarded in case of success. In this article\, we examine whether these
  programs should – contrary to what they usually offer – be tailored to
  the characteristics and the preferences of the subjects. Our theoretical m
 odel suggests that participants are more likely to lose weight if the diffi
 culty of the goal assigned to them and the reward they obtain in the event 
 of success are jointly defined according to their preferences towards risk.
 \\n\\nContact: Ewen Gallic : ewen.gallic[at]univ-amu.frAvner Seror : avner.
 seror[at]univ-amu.fr\n\nPlus d'informations: https://www.amse-aixmarseille.
 fr/fr/evenements/david-crainich
LOCATION:Îlot Bernard du Bois - Amphithéâtre\, AMU - AMSE\, 5-9 boulevar
 d Maurice Bourdet\, 13001 Marseille
URL;VALUE=URI:https://www.amse-aixmarseille.fr/fr/evenements/david-crainich
CONTACT:Ewen Gallic : ewen.gallic[at]univ-amu.frAvner Seror : avner.seror[a
 t]univ-amu.fr
TRANSP:OPAQUE
END:VEVENT
END:VCALENDAR
