BEGIN:VCALENDAR
VERSION:2.0
PRODID:-//AMSE//Event Calendar//FR
CALSCALE:GREGORIAN
METHOD:PUBLISH
BEGIN:VEVENT
UID:event-8403@www.amse-aixmarseille.fr
DTSTAMP:20260421T214100Z
CREATED:20260421T214100Z
LAST-MODIFIED:20260421T214100Z
STATUS:CONFIRMED
SEQUENCE:0
SUMMARY:big data and econometrics seminar - Jean-Benoît Eymeoud
DTSTART:20220118T130000Z
DTEND:20220118T134500Z
DESCRIPTION:We examine how corporate real estate market participants adjust
  to the take-off of tele-working. We develop an indicator of the exposure o
 f counties to teleworking in France by combining teleworking capacity with 
 incentives and frictions to its deployment. We study how this indicator rel
 ates to prices and quantities in the corporate real estate market. We find 
 that for offices in counties more exposed\, the Covid-19 crisis has led to 
 (1) higher vacancy rates\, (2) less construction\, (3) lower prices. Our fi
 ndings reveal that teleworking has already an impact on the office market. 
 Furthermore\, forward-looking indicators suggest that market participants a
 re anticipating the shift to teleworking to be durable.\\n\\nContact: Miche
 l Lubrano : michel.lubrano[at]univ-amu.frPierre Michel : pierre.michel[at]
 univ-amu.fr\n\nPlus d'informations: https://www.amse-aixmarseille.fr/fr/eve
 nements/jean-beno%C3%AEt-eymeoud-1
LOCATION:Îlot Bernard du Bois - Salle 21\, AMU - AMSE\, 5-9 boulevard Maur
 ice Bourdet\, 13001 Marseille
URL;VALUE=URI:https://www.amse-aixmarseille.fr/fr/evenements/jean-beno%C3%AEt-eymeoud-1
CONTACT:Michel Lubrano : michel.lubrano[at]univ-amu.frPierre Michel :&nbsp\
 ;pierre.michel[at]univ-amu.fr
TRANSP:OPAQUE
END:VEVENT
END:VCALENDAR
