BEGIN:VCALENDAR
VERSION:2.0
PRODID:-//AMSE//Event Calendar//FR
CALSCALE:GREGORIAN
METHOD:PUBLISH
BEGIN:VEVENT
UID:event-8666@www.amse-aixmarseille.fr
DTSTAMP:20260421T110418Z
CREATED:20260421T110418Z
LAST-MODIFIED:20260421T110418Z
STATUS:CONFIRMED
SEQUENCE:0
SUMMARY:confÃ©rences/workshops - 21e JournÃ©es Louis-AndrÃ© GÃ©rard-Varet
DTSTART:20220606T073000Z
DTEND:20220608T103000Z
DESCRIPTION:Â Les 21Ã¨mesÂ JournÃ©es Louis-AndrÃ© GÃ©rard-Varet se dÃ©roule
 ront du lundi 6 au mercredi 8 juin 2022Â auÂ Palais du Pharo Ã  Marseille.Â
  Les participations Ã  distance sont acceptÃ©es.LAGV est l'une des plus imp
 ortantes confÃ©rences annuelles d'Ã©conomie publique en Europe. Elle vise Ã
   promouvoir et Ã  diffuser une recherche de haute qualitÃ©\, en mettant l'
 accent sur les articles qui Ã©clairent l'Ã©laboration des politiques dans l
 e monde rÃ©el.Â Nous accueillerons 3Â confÃ©renciers :Myrna WOODERS\, Vande
 rbilt University\, College of Arts and ScienceRabah AMIR\, University of Io
 wa\, Tippie College of BusinessMarc FLEURBAEY\, Paris School of Economics\,
  CNRSL'appel Ã  communications est disponible ICI \; la date de soumissions
  est le 25 fÃ©vrier 2022.Les 21Ã¨mesÂ JournÃ©es Louis-AndrÃ© GÃ©rard-Varet 
 se tiendront juste avant la ConfÃ©rence PET 2022 qui aura lieu du 8 au 10 j
 uin 2022. Les chercheurs qui assisteront Ã  l'un ou l'autre Ã©vÃ©nement pou
 rront Ã©galement s'inscrire et participer Ã  l'autre confÃ©rence.Plus d'inf
 ormations sur leÂ site dÃ©diÃ©.Â Â© Photo by F. Lhuillier\\n\\nContact: con
 tact[at]amselagv.com\n\nPlus d'informations: https://www.amse-aixmarseille.
 fr/fr/evenements/21e-journ%C3%A9es-louis-andr%C3%A9-g%C3%A9rard-varet
URL;VALUE=URI:https://www.amse-aixmarseille.fr/fr/evenements/21e-journ%C3%A9es-louis-andr%C3%A9-g%C3%A9rard-varet
CONTACT:contact[at]amselagv.com
TRANSP:OPAQUE
END:VEVENT
END:VCALENDAR
