BEGIN:VCALENDAR
VERSION:2.0
PRODID:-//AMSE//Event Calendar//FR
CALSCALE:GREGORIAN
METHOD:PUBLISH
BEGIN:VEVENT
UID:event-8668@www.amse-aixmarseille.fr
DTSTAMP:20260421T110417Z
CREATED:20260421T110417Z
LAST-MODIFIED:20260421T110417Z
STATUS:CONFIRMED
SEQUENCE:0
SUMMARY:conférences/workshops - International Conference on Public Economi
 c Theory
DTSTART:20220608T103000Z
DTEND:20220610T150000Z
DESCRIPTION: La conférence PET 2022 se déroulera du mercredi 8 au vendre
 di 10 juin 2022 au Palais du Pharo à Marseille. Les participations à dis
 tance sont acceptées.Nous y accueillerons Glenn C. LOURY (Brown Universit
 y) en tant que conférencier\, ainsi que 8 intervenants en format de semi-p
 lénières :Françoise FORGES (Université Paris-Dauphine) et Sanjeev GO
 YAL (University of Cambridge)Edward SCHLEE (Arizona State University) et Ni
 kos NIKIFORAKIS (New York University Abu Dhabi)Helmuth CREMER (Toulouse Sch
 ool of Economics) et Karine NYBORG (University of Oslo)Xavier VIVES (Unive
 rsity of Navarra\, IESE Business School) et Hulya ERSALAN (Rice Universit
 y)L'appel à communications est disponible ICI \; la date de soumissions 
 est le 25 février 2022.La conférence PET se tiendra juste après les 2
 1èmes Journées Louis-André Gérard-Varet (LAGV)\, qui se dérouleront d
 u 6 au 8 juin 2022. Les chercheurs qui assisteront à l'un ou l'autre évé
 nement pourront également s'inscrire et participer à l'autre conférence.
 Cet événement est organisé par Aix-Marseille School of Economics (AMSE).
 Plus d'informations sur le site dédié. © Photo by F. Lhuillier\\n\\nCo
 ntact: pet2022[at]amse-aixmarseille.fr\n\nPlus d'informations: https://www.
 amse-aixmarseille.fr/fr/evenements/international-conference-public-economic
 -theory-0
URL;VALUE=URI:https://www.amse-aixmarseille.fr/fr/evenements/international-conference-public-economic-theory-0
CONTACT:pet2022[at]amse-aixmarseille.fr
TRANSP:OPAQUE
END:VEVENT
END:VCALENDAR
