BEGIN:VCALENDAR
VERSION:2.0
PRODID:-//AMSE//Event Calendar//FR
CALSCALE:GREGORIAN
METHOD:PUBLISH
BEGIN:VEVENT
UID:event-8686@www.amse-aixmarseille.fr
DTSTAMP:20260425T123908Z
CREATED:20260425T123908Z
LAST-MODIFIED:20260425T123908Z
STATUS:CONFIRMED
SEQUENCE:0
SUMMARY:enseignement - A Post-Pandemic Growth Strategy for Southern and Eas
 tern Mediterranean Countries
DTSTART:20211214T170000Z
DTEND:20211214T190000Z
DESCRIPTION: The Center for Mediterranean Integration (CMI)\, Aix-Marseill
 e School of Economics (AMSE) and The Growth Dialogue invite you to a high-l
 evel event on "A Post-Pandemic Growth Strategy for Southern and Eastern Med
 iterranean Countries". The global pandemic has prompted a re-examination o
 f existing development strategies for growth and development. As we continu
 e with our current response and recovery strategy and plans\, AMSE and CMI 
 are convinced that only through collaboration and partnerships will our goa
 ls be fully achieved in the Mediterranean. Therefore the two institutions d
 ecided to join their forces and launch the AMSE-CMI Knowledge and Policy D
 ialogues on Sustainable Development Models. This series of events will pro
 vide a platform of dialogue between experts and policy/institutional stakeh
 olders in order to rethink economic\, social and environmental policies und
 er a regional approach and to provide Sustainable Development models in the
  post-covid Mediterranean. For their first event\, AMSE and CMI are honore
 d to partner with The Growth Dialogue\, a think-tank which seeks to inform
 \, push the frontiers of policy experience\, and be of practical use to cou
 ntries pursuing economic growth objectives. The Growth Dialogue produced a
  new report for CMI titled "A Post-Pandemic Growth Strategy for Southern an
 d Eastern Mediterranean Countries"\, the conclusions of which will be prese
 nted and discussed during the event.\\n\\nContact: Elisabeth Barthélemy : 
 elisabeth.barthelemy[at]univ-amu.fr\n\nPlus d'informations: https://www.ams
 e-aixmarseille.fr/fr/evenements/post-pandemic-growth-strategy-southern-and-
 eastern-mediterranean-countries
LOCATION:Îlot Bernard du Bois - Salle 21\, AMU - AMSE\, 5-9 boulevard Maur
 ice Bourdet\, 13001 Marseille
URL;VALUE=URI:https://www.amse-aixmarseille.fr/fr/evenements/post-pandemic-growth-strategy-southern-and-eastern-mediterranean-countries
CONTACT:Elisabeth Barthélemy : elisabeth.barthelemy[at]univ-amu.fr
TRANSP:OPAQUE
END:VEVENT
END:VCALENDAR
