BEGIN:VCALENDAR
VERSION:2.0
PRODID:-//AMSE//Event Calendar//FR
CALSCALE:GREGORIAN
METHOD:PUBLISH
BEGIN:VEVENT
UID:event-8752@www.amse-aixmarseille.fr
DTSTAMP:20260421T110407Z
CREATED:20260421T110407Z
LAST-MODIFIED:20260421T110407Z
STATUS:CONFIRMED
SEQUENCE:0
SUMMARY:conférences/workshops - QFFE 2022 (Quantitative Finance and Financ
 ial Econometrics) – Conférence et École de printemps
DTSTART:20220614T063000Z
DTEND:20220617T150000Z
DESCRIPTION:La 4ème édition de la conférence internationale QFFE (Quanti
 tative Finance and Financial Econometrics) se déroulera du jeudi 16 au ven
 dredi 17 juin 2022 dans les locaux d'AMSE. Nous y accueillerons 2 conféren
 ciers :Torben G. ANDERSEN\, Northwestern UniversityPeter Reinhard HANSEN\, 
 University of North CarolinaLa date de fin des soumissions est le 7 mars.
 L'école de printemps QFFE précèdera la conférence. Elle sera composée 
 de deux cours dispensés du mardi 14 juin au mercredi 15 juin 2022 par :Chr
 istian BROWNLEES\, Universitat Pompeu Fabra - Large dimensional network mo
 delsPeter Reinhard HANSEN\, University of North Carolina - Estimation of c
 ovariances and correlations in financeLa date de fin des soumissions est le
  21 mars.L'appel à communications est disponible ICI \; Nous vous inviton
 s à regarder le site dédié pour plus d’informations.\\n\\nContact: qff
 e2022[at]amse-aixmarseille.fr\n\nPlus d'informations: https://www.amse-aixm
 arseille.fr/fr/evenements/qffe-2022-quantitative-finance-and-financial-econ
 ometrics-%E2%80%93-conf%C3%A9rence-et-%C3%A9cole-de
LOCATION:Îlot Bernard du Bois
URL;VALUE=URI:https://www.amse-aixmarseille.fr/fr/evenements/qffe-2022-quantitative-finance-and-financial-econometrics-%E2%80%93-conf%C3%A9rence-et-%C3%A9cole-de
CONTACT:qffe2022[at]amse-aixmarseille.fr
TRANSP:OPAQUE
END:VEVENT
END:VCALENDAR
