BEGIN:VCALENDAR
VERSION:2.0
PRODID:-//AMSE//Event Calendar//FR
CALSCALE:GREGORIAN
METHOD:PUBLISH
BEGIN:VEVENT
UID:event-8754@www.amse-aixmarseille.fr
DTSTAMP:20260421T110406Z
CREATED:20260421T110406Z
LAST-MODIFIED:20260421T110406Z
STATUS:CONFIRMED
SEQUENCE:0
SUMMARY:conférences/workshops - Workshop DeMUr
DTSTART:20220519T120000Z
DTEND:20220520T134500Z
DESCRIPTION:Le workshop DeMUr est organisé dans le cadre du projet de rech
 erche ANR portant sur l’incertitude et le risque en  macroéconomie\, d
 étails disponibles ici. L’objectif de ce workshop est de réunir des che
 rcheurs travaillant sur ces thèmes afin qu’ils discutent leur recherche 
 en cours.\\n\\nContact: Andreas Dibiasi : andreas.dibiasi[at]univ-amu.frCé
 line Poilly : celine.poilly[at]univ-amu.fr\n\nPlus d'informations: https://
 www.amse-aixmarseille.fr/fr/evenements/workshop-demur
LOCATION:Îlot Bernard du Bois - Amphithéâtre\, AMU - AMSE\, 5-9 boulevar
 d Maurice Bourdet\, 13001 Marseille
URL;VALUE=URI:https://www.amse-aixmarseille.fr/fr/evenements/workshop-demur
CONTACT:Andreas Dibiasi : andreas.dibiasi[at]univ-amu.frCéline Poilly : ce
 line.poilly[at]univ-amu.fr
TRANSP:OPAQUE
END:VEVENT
END:VCALENDAR
