BEGIN:VCALENDAR
VERSION:2.0
PRODID:-//AMSE//Event Calendar//FR
CALSCALE:GREGORIAN
METHOD:PUBLISH
BEGIN:VEVENT
UID:event-8766@www.amse-aixmarseille.fr
DTSTAMP:20260421T214059Z
CREATED:20260421T214059Z
LAST-MODIFIED:20260421T214059Z
STATUS:CONFIRMED
SEQUENCE:0
SUMMARY:job market seminar - Elsa Leromain
DTSTART:20220120T130000Z
DTEND:20220120T141500Z
DESCRIPTION:How does import protection affect export performance? In trade 
 models with scale economies\, import liberalization can reduce an industryâ
 €™s exports by cutting domestic production. We find this export destruction
  mechanism reduced US export growth following the normalization of trade re
 lations with China (PNTR). But there was also an offsetting boost to export
 s from lower input costs. We use our empirical results to calibrate the str
 ength of scale economies in a quantitative trade model. Counterfactual anal
 ysis implies that while PNTR increased aggregate US exports relative to GDP
 \, exports declined in the most exposed industries because of the export de
 struction effect. On aggregate\, the US and China both gain from PNTR\, but
  the gains are larger for China.\\n\\nContact: FrÃ©dÃ©ric DeroÃ¯an :Â frede
 ric.deroian[at]univ-amu.fr\n\nPlus d'informations: https://www.amse-aixmars
 eille.fr/fr/evenements/elsa-leromain
URL;VALUE=URI:https://www.amse-aixmarseille.fr/fr/evenements/elsa-leromain
CONTACT:FrÃ©dÃ©ric DeroÃ¯an :&nbsp\;frederic.deroian[at]univ-amu.fr
TRANSP:OPAQUE
END:VEVENT
END:VCALENDAR
