BEGIN:VCALENDAR
VERSION:2.0
PRODID:-//AMSE//Event Calendar//FR
CALSCALE:GREGORIAN
METHOD:PUBLISH
BEGIN:VEVENT
UID:event-8780@www.amse-aixmarseille.fr
DTSTAMP:20260421T200358Z
CREATED:20260421T200358Z
LAST-MODIFIED:20260421T200358Z
STATUS:CONFIRMED
SEQUENCE:0
SUMMARY:job market seminar - Marco Fongoni
DTSTART:20220124T103000Z
DTEND:20220124T114500Z
DESCRIPTION:This paper analyses the cyclical behaviour of wages\, effort an
 d job creation in a search and matching framework in which workers are char
 acterised by asymmetric reference-dependent reciprocity\, and firms set wag
 es by considering the effect that wage changes can have on workers' effort\
 , and therefore on output. The analysis establishes that the cyclical respo
 nse of workers' effort to wage changes can considerably amplify the magnitu
 de of shocks\, independently of the extent of cyclicality of the hiring wag
 e\; and that firms' expectations of downward wage rigidity in existing jobs
 ---along with the prospect of output losses due to incumbents' negatively r
 eciprocating wage cuts---increases the volatility of job creation. The mode
 l generates outcomes consistent with evidence on hiring and incumbents' wag
 e cyclicality\, and provides novel predictions for the difference in the dy
 namics of effort between new hires and incumbent workers.\\n\\nContact: FrÃ
 ©dÃ©ric DeroÃ¯an :Â frederic.deroian[at]univ-amu.fr\n\nPlus d'informations:
  https://www.amse-aixmarseille.fr/fr/evenements/marco-fongoni
URL;VALUE=URI:https://www.amse-aixmarseille.fr/fr/evenements/marco-fongoni
CONTACT:FrÃ©dÃ©ric DeroÃ¯an :&nbsp\;frederic.deroian[at]univ-amu.fr
TRANSP:OPAQUE
END:VEVENT
END:VCALENDAR
