BEGIN:VCALENDAR
VERSION:2.0
PRODID:-//AMSE//Event Calendar//FR
CALSCALE:GREGORIAN
METHOD:PUBLISH
BEGIN:VEVENT
UID:event-8927@www.amse-aixmarseille.fr
DTSTAMP:20260421T184034Z
CREATED:20260421T184034Z
LAST-MODIFIED:20260421T184034Z
STATUS:CONFIRMED
SEQUENCE:0
SUMMARY:Empirical &amp\; Econometric Methods Session - Bertille Picard
DTSTART:20220221T140000Z
DTEND:20220221T140000Z
DESCRIPTION:Imagine the following situation: you have a large database with
  a very large number of characteristics on your individuals. You would like
  to select the most relevant ones in a data-driven way and you are thinking
  about implementing a linear regression with variable selection. You hesita
 te between a LASSO and a Ridge\, and you realize that you do not understand
  the difference between both. This seminar takes you to the frontier of mac
 hine learning and bayesian statistics to get a clearer picture - this sessi
 on requires no previous knowledge in these areas.\\n\\nContact: Julieta Pev
 eri : julieta.peveri[at]univ-amu.frBertille Picard : bertille.picard[at]un
 iv-amu.frMathias Silva : mathias.silva-vazquez[at]univ-amu.fr\n\nPlus d'inf
 ormations: https://www.amse-aixmarseille.fr/fr/evenements/bertille-picard-5
LOCATION:Îlot Bernard du Bois - Salle 23\, AMU - AMSE\, 5-9 boulevard Maur
 ice Bourdet\, 13001 Marseille
URL;VALUE=URI:https://www.amse-aixmarseille.fr/fr/evenements/bertille-picard-5
CONTACT:Julieta Peveri :&nbsp\;julieta.peveri[at]univ-amu.frBertille Picard
  : bertille.picard[at]univ-amu.frMathias Silva : mathias.silva-vazquez[at]u
 niv-amu.fr
TRANSP:OPAQUE
END:VEVENT
END:VCALENDAR
