BEGIN:VCALENDAR
VERSION:2.0
PRODID:-//AMSE//Event Calendar//FR
CALSCALE:GREGORIAN
METHOD:PUBLISH
BEGIN:VEVENT
UID:event-8971@www.amse-aixmarseille.fr
DTSTAMP:20260421T184017Z
CREATED:20260421T184017Z
LAST-MODIFIED:20260421T184017Z
STATUS:CONFIRMED
SEQUENCE:0
SUMMARY:Economic theory seminar - Ugo Bolletta
DTSTART:20220303T110000Z
DTEND:20220303T120000Z
DESCRIPTION:When it comes to modeling marriage markets\, one often consider
 s a setting where anyone on the opposite side of the market can serve as a 
 potential spouse.In reality\, however\, we tend to acknowledge that there e
 xist separate (overlapping) markets for the potential couples. In this pape
 r\, we aim to learn more about the various factors that define such marriag
 e markets. Using revealed preferences\, we develop a method that allows rec
 onstructing (partially) the set of couples that belong to the marriage mark
 et\, and (exactly) the set of couples that do not belong to it. We apply ou
 r results to the data identifying the marriage market for each individual u
 sing machine learning techniques\, and study its characteristics.\\n\\nCont
 act: Gaëtan Fournier : gaetan.fournier[at]univ-amu.frEvgeny Tsodikovich :
  evgeny.tsodikovich[at]univ-amu.fr\n\nPlus d'informations: https://www.amse
 -aixmarseille.fr/fr/evenements/ugo-bolletta-1
LOCATION:Îlot Bernard du Bois - Salle 16\, AMU - AMSE\, 5-9 boulevard Maur
 ice Bourdet\, 13001 Marseille
URL;VALUE=URI:https://www.amse-aixmarseille.fr/fr/evenements/ugo-bolletta-1
CONTACT:Gaëtan Fournier : gaetan.fournier[at]univ-amu.frEvgeny Tsodikovich
 &nbsp\;: evgeny.tsodikovich[at]univ-amu.fr
TRANSP:OPAQUE
END:VEVENT
END:VCALENDAR
