BEGIN:VCALENDAR
VERSION:2.0
PRODID:-//AMSE//Event Calendar//FR
CALSCALE:GREGORIAN
METHOD:PUBLISH
BEGIN:VEVENT
UID:event-9082@www.amse-aixmarseille.fr
DTSTAMP:20260421T110417Z
CREATED:20260421T110417Z
LAST-MODIFIED:20260421T110417Z
STATUS:CONFIRMED
SEQUENCE:0
SUMMARY:soutenances de thèse - Mélina London
DTSTART:20220518T120000Z
DTEND:20220518T120000Z
DESCRIPTION:Plus d'informations: https://www.amse-aixmarseille.fr/fr/evenem
 ents/m%C3%A9lina-london-3
URL;VALUE=URI:https://www.amse-aixmarseille.fr/fr/evenements/m%C3%A9lina-london-3
TRANSP:OPAQUE
END:VEVENT
END:VCALENDAR
