BEGIN:VCALENDAR
VERSION:2.0
PRODID:-//AMSE//Event Calendar//FR
CALSCALE:GREGORIAN
METHOD:PUBLISH
BEGIN:VEVENT
UID:event-9103@www.amse-aixmarseille.fr
DTSTAMP:20260421T124015Z
CREATED:20260421T124015Z
LAST-MODIFIED:20260421T124015Z
STATUS:CONFIRMED
SEQUENCE:0
SUMMARY:finance seminar - Fabio Bertoni
DTSTART:20220426T123000Z
DTEND:20220426T123000Z
DESCRIPTION:\\n\\nContact: Eric Girardin : eric.girardin[at]univ-amu.frChri
 stelle Lecourt : christelle.lecourt[at]univ-amu.fr\n\nPlus d'informations: 
 https://www.amse-aixmarseille.fr/fr/evenements/fabio-bertoni
LOCATION:MEGA
URL;VALUE=URI:https://www.amse-aixmarseille.fr/fr/evenements/fabio-bertoni
CONTACT:Eric Girardin : eric.girardin[at]univ-amu.frChristelle Lecourt : ch
 ristelle.lecourt[at]univ-amu.fr
TRANSP:OPAQUE
END:VEVENT
END:VCALENDAR
