BEGIN:VCALENDAR
VERSION:2.0
PRODID:-//AMSE//Event Calendar//FR
CALSCALE:GREGORIAN
METHOD:PUBLISH
BEGIN:VEVENT
UID:event-9239@www.amse-aixmarseille.fr
DTSTAMP:20260421T110417Z
CREATED:20260421T110417Z
LAST-MODIFIED:20260421T110417Z
STATUS:CONFIRMED
SEQUENCE:0
SUMMARY:enseignement - Cérémonie de remise des diplômes
DTSTART:20220624T150000Z
DTEND:20220624T150000Z
DESCRIPTION: La cérémonie de remise des diplômes AMSE célébrant les c
 ohortes 2020 et 2021 (Master\, Magistère et DESU Data Science) aura lieu l
 e vendredi 24 juin à 17h au Théâtre de la Joliette (Marseille) et sera s
 uivie d'un cocktail.Mario NAVA\, Directeur Général de la Direction Géné
 rale de l’appui aux réformes structurelles\, Commission Européenne\, se
 ra le parrain de la cérémonie.\\n\\nContact: infoecole[at]amse-aixmarseil
 le.fr\n\nPlus d'informations: https://www.amse-aixmarseille.fr/fr/evenement
 s/c%C3%A9r%C3%A9monie-de-remise-des-dipl%C3%B4mes
URL;VALUE=URI:https://www.amse-aixmarseille.fr/fr/evenements/c%C3%A9r%C3%A9monie-de-remise-des-dipl%C3%B4mes
CONTACT:infoecole[at]amse-aixmarseille.fr
TRANSP:OPAQUE
END:VEVENT
END:VCALENDAR
