BEGIN:VCALENDAR
VERSION:2.0
PRODID:-//AMSE//Event Calendar//FR
CALSCALE:GREGORIAN
METHOD:PUBLISH
BEGIN:VEVENT
UID:event-9291@www.amse-aixmarseille.fr
DTSTAMP:20260421T110439Z
CREATED:20260421T110439Z
LAST-MODIFIED:20260421T110439Z
STATUS:CONFIRMED
SEQUENCE:0
SUMMARY:conférences/workshops - Challenging Inequalities
DTSTART:20220914T120000Z
DTEND:20220916T164500Z
DESCRIPTION:\\n\\nContact: Nicolas Gravel : nicolas.gravel[at]univ-amu.frBr
 ice Magdalou : brice.magdalou[at]umontpellier.fr\n\nPlus d'informations: h
 ttps://www.amse-aixmarseille.fr/fr/evenements/challenging-inequalities
LOCATION:Îlot Bernard du Bois - Amphithéâtre\, AMU - AMSE\, 5-9 boulevar
 d Maurice Bourdet\, 13001 Marseille
URL;VALUE=URI:https://www.amse-aixmarseille.fr/fr/evenements/challenging-inequalities
CONTACT:Nicolas Gravel : nicolas.gravel[at]univ-amu.frBrice Magdalou :&nbsp
 \;brice.magdalou[at]umontpellier.fr
TRANSP:OPAQUE
END:VEVENT
END:VCALENDAR
