BEGIN:VCALENDAR
VERSION:2.0
PRODID:-//AMSE//Event Calendar//FR
CALSCALE:GREGORIAN
METHOD:PUBLISH
BEGIN:VEVENT
UID:event-9327@www.amse-aixmarseille.fr
DTSTAMP:20260422T115802Z
CREATED:20260422T115802Z
LAST-MODIFIED:20260422T115802Z
STATUS:CONFIRMED
SEQUENCE:0
SUMMARY:Development and political economy seminar - Clare Balboni
DTSTART:20221104T114500Z
DTEND:20221104T130000Z
DESCRIPTION:\\n\\nContact: Timothée Demont : timothee.demont[at]univ-amu.
 frLorenzo Rotunno : lorenzo.rotunno[at]univ-amu.fr\n\nPlus d'informations: 
 https://www.amse-aixmarseille.fr/fr/evenements/clare-balboni
LOCATION:MEGA
URL;VALUE=URI:https://www.amse-aixmarseille.fr/fr/evenements/clare-balboni
CONTACT:Timothée Demont :&nbsp\;timothee.demont[at]univ-amu.frLorenzo Rotu
 nno : lorenzo.rotunno[at]univ-amu.fr
TRANSP:OPAQUE
END:VEVENT
END:VCALENDAR
