BEGIN:VCALENDAR
VERSION:2.0
PRODID:-//AMSE//Event Calendar//FR
CALSCALE:GREGORIAN
METHOD:PUBLISH
BEGIN:VEVENT
UID:event-9331@www.amse-aixmarseille.fr
DTSTAMP:20260421T130422Z
CREATED:20260421T130422Z
LAST-MODIFIED:20260421T130422Z
STATUS:CONFIRMED
SEQUENCE:0
SUMMARY:amse seminar - Micaela Sviatschi
DTSTART:20230306T103000Z
DTEND:20230306T114500Z
DESCRIPTION:\\n\\nContact: Timothée Demont : timothee.demont[at]univ-amu.
 frLorenzo Rotunno : lorenzo.rotunno[at]univ-amu.frEwen Gallic : ewen.gallic
 [at]univ-amu.frAvner Seror : avner.seror[at]univ-amu.fr\n\nPlus d'informati
 ons: https://www.amse-aixmarseille.fr/fr/evenements/micaela-sviatschi
LOCATION:Îlot Bernard du Bois - Amphithéâtre\, AMU - AMSE\, 5-9 boulevar
 d Maurice Bourdet\, 13001 Marseille
URL;VALUE=URI:https://www.amse-aixmarseille.fr/fr/evenements/micaela-sviatschi
CONTACT:Timothée Demont :&nbsp\;timothee.demont[at]univ-amu.frLorenzo Rotu
 nno : lorenzo.rotunno[at]univ-amu.frEwen Gallic : ewen.gallic[at]univ-amu.f
 rAvner Seror : avner.seror[at]univ-amu.fr
TRANSP:OPAQUE
END:VEVENT
END:VCALENDAR
