BEGIN:VCALENDAR
VERSION:2.0
PRODID:-//AMSE//Event Calendar//FR
CALSCALE:GREGORIAN
METHOD:PUBLISH
BEGIN:VEVENT
UID:event-9387@www.amse-aixmarseille.fr
DTSTAMP:20260422T113955Z
CREATED:20260422T113955Z
LAST-MODIFIED:20260422T113955Z
STATUS:CONFIRMED
SEQUENCE:0
SUMMARY:amse seminar - Marc Gurgand
DTSTART:20221017T093000Z
DTEND:20221017T104500Z
DESCRIPTION:We analyze the employment effects of directing job seekers’ a
 pplications towards establishments likely to recruit\, building upon an exi
 sting Internet platform developed by the French public employment service. 
 Our two-sided randomization design\, with about 1.2 million job seekers and
  100\,000 establishments\, allows us to precisely measure the effects of th
 e recommender system at hand. Our randomized encouragement to use the syste
 m induces a 2% increase in job finding rates among women. This effect is du
 e to an activation effect (increased search effort\, stronger for women tha
 n men)\, but also to a targeting effect by which treated men and women were
  more likely to be hired by the firms that were specifically recommended to
  them. In a second step\, we analyze whether these partial equilibrium effe
 cts translate into positive effects on aggregate employment. Drawing on the
  recent literature on the econometrics of interference effects\, we estimat
 e that by redirecting the search effort of some job seekers outside their i
 nitial job market\, we reduced congestion in slack markets. Estimates sugge
 st that this effect is only partly offset by the increased competition in i
 nitially tight markets\, so that the intervention increases aggregate job f
 inding rates.\\n\\nContact: Ewen Gallic : ewen.gallic[at]univ-amu.frAvner S
 eror : avner.seror[at]univ-amu.fr\n\nPlus d'informations: https://www.amse-
 aixmarseille.fr/fr/evenements/marc-gurgand-3
LOCATION:Îlot Bernard du Bois - Amphithéâtre\, AMU - AMSE\, 5-9 boulevar
 d Maurice Bourdet\, 13001 Marseille
URL;VALUE=URI:https://www.amse-aixmarseille.fr/fr/evenements/marc-gurgand-3
CONTACT:Ewen Gallic : ewen.gallic[at]univ-amu.frAvner Seror : avner.seror[a
 t]univ-amu.fr
TRANSP:OPAQUE
END:VEVENT
END:VCALENDAR
