BEGIN:VCALENDAR
VERSION:2.0
PRODID:-//AMSE//Event Calendar//FR
CALSCALE:GREGORIAN
METHOD:PUBLISH
BEGIN:VEVENT
UID:event-9391@www.amse-aixmarseille.fr
DTSTAMP:20260422T141833Z
CREATED:20260422T141833Z
LAST-MODIFIED:20260422T141833Z
STATUS:CONFIRMED
SEQUENCE:0
SUMMARY:amse seminar - Benteng Zou
DTSTART:20221128T103000Z
DTEND:20221128T114500Z
DESCRIPTION:With the exhaustion of non-renewable resources and the increasi
 ng importance of essential materials for sustainable development\, recyclin
 g is called into actions. For the critical mineral with positive minimum de
 mand\, this paper’s findings are threefold\, regardless the market struct
 ure (social planner’s optimal choice or market competitions) and choice o
 f strategy: (1) recycling technology can release partially the dependence o
 n the supply of critical mineral\, but the release only partially\, given r
 ecycling depends on the accumulated supply before\; (2) recycling technolog
 y postpones the pressure of the critical mineral’s exhaustion\, but the p
 ostpone is as well not permanent\; and (3) it is almost never an optimal st
 rategy for the original resource players to hold back supply to the market.
 \\n\\nContact: Ewen Gallic : ewen.gallic[at]univ-amu.frAvner Seror : avner.
 seror[at]univ-amu.fr\n\nPlus d'informations: https://www.amse-aixmarseille.
 fr/fr/evenements/benteng-zou
LOCATION:Îlot Bernard du Bois - Amphithéâtre\, AMU - AMSE\, 5-9 boulevar
 d Maurice Bourdet\, 13001 Marseille
URL;VALUE=URI:https://www.amse-aixmarseille.fr/fr/evenements/benteng-zou
CONTACT:Ewen Gallic : ewen.gallic[at]univ-amu.frAvner Seror : avner.seror[a
 t]univ-amu.fr
TRANSP:OPAQUE
END:VEVENT
END:VCALENDAR
