BEGIN:VCALENDAR
VERSION:2.0
PRODID:-//AMSE//Event Calendar//FR
CALSCALE:GREGORIAN
METHOD:PUBLISH
BEGIN:VEVENT
UID:event-9399@www.amse-aixmarseille.fr
DTSTAMP:20260422T155544Z
CREATED:20260422T155544Z
LAST-MODIFIED:20260422T155544Z
STATUS:CONFIRMED
SEQUENCE:0
SUMMARY:Macro and labor market seminar - Francesco Furlanetto
DTSTART:20221110T113000Z
DTEND:20221110T123000Z
DESCRIPTION:\\n\\nContact: Andreas Dibiasi : andreas.dibiasi[at]univ-amu.fr
 Céline Poilly : celine.poilly[at]univ-amu.fr\n\nPlus d'informations: https
 ://www.amse-aixmarseille.fr/fr/evenements/francesco-furlanetto
LOCATION:Îlot Bernard du Bois - Salle 16\, AMU - AMSE\, 5-9 boulevard Maur
 ice Bourdet\, 13001 Marseille
URL;VALUE=URI:https://www.amse-aixmarseille.fr/fr/evenements/francesco-furlanetto
CONTACT:Andreas Dibiasi : andreas.dibiasi[at]univ-amu.frCéline Poilly : ce
 line.poilly[at]univ-amu.fr
TRANSP:OPAQUE
END:VEVENT
END:VCALENDAR
