BEGIN:VCALENDAR
VERSION:2.0
PRODID:-//AMSE//Event Calendar//FR
CALSCALE:GREGORIAN
METHOD:PUBLISH
BEGIN:VEVENT
UID:event-9452@www.amse-aixmarseille.fr
DTSTAMP:20260421T212248Z
CREATED:20260421T212248Z
LAST-MODIFIED:20260421T212248Z
STATUS:CONFIRMED
SEQUENCE:0
SUMMARY:phd seminar - Bertille Picard
DTSTART:20221129T100000Z
DTEND:20221129T104500Z
DESCRIPTION:\\n\\nContact: Camille Hainnaux : camille.hainnaux[at]univ-amu.
 frDaniela Horta Saenz : daniela.horta-saenz[at]univ-amu.frJade Ponsard : ja
 de.ponsard[at]univ-amu.frNathan Vieira : nathan.vieira[at]univ-amu.fr\n\nPl
 us d'informations: https://www.amse-aixmarseille.fr/fr/evenements/bertille-
 picard-7
LOCATION:Îlot Bernard du Bois - Amphithéâtre\, AMU - AMSE\, 5-9 boulevar
 d Maurice Bourdet\, 13001 Marseille
URL;VALUE=URI:https://www.amse-aixmarseille.fr/fr/evenements/bertille-picard-7
CONTACT:Camille Hainnaux : camille.hainnaux[at]univ-amu.frDaniela Horta Sae
 nz : daniela.horta-saenz[at]univ-amu.frJade Ponsard : jade.ponsard[at]univ-
 amu.frNathan Vieira : nathan.vieira[at]univ-amu.fr
TRANSP:OPAQUE
END:VEVENT
END:VCALENDAR
