BEGIN:VCALENDAR
VERSION:2.0
PRODID:-//AMSE//Event Calendar//FR
CALSCALE:GREGORIAN
METHOD:PUBLISH
BEGIN:VEVENT
UID:event-9476@www.amse-aixmarseille.fr
DTSTAMP:20260421T110417Z
CREATED:20260421T110417Z
LAST-MODIFIED:20260421T110417Z
STATUS:CONFIRMED
SEQUENCE:0
SUMMARY:conférences/workshops - AMSE PostDoc Day 
DTSTART:20220928T073000Z
DTEND:20220928T143000Z
DESCRIPTION:\\n\\nContact: Frédéric Deroïan : frederic.deroian[at]univ-a
 mu.frGaëtan Fournier : gaetan.fournier[at]univ-amu.fr\n\nPlus d'informatio
 ns: https://www.amse-aixmarseille.fr/fr/evenements/amse-postdoc-day
LOCATION:Îlot Bernard du Bois - Amphithéâtre\, AMU - AMSE\, 5-9 boulevar
 d Maurice Bourdet\, 13001 Marseille
URL;VALUE=URI:https://www.amse-aixmarseille.fr/fr/evenements/amse-postdoc-day
CONTACT:Frédéric Deroïan : frederic.deroian[at]univ-amu.frGaëtan Fourni
 er : gaetan.fournier[at]univ-amu.fr
TRANSP:OPAQUE
END:VEVENT
END:VCALENDAR
