BEGIN:VCALENDAR
VERSION:2.0
PRODID:-//AMSE//Event Calendar//FR
CALSCALE:GREGORIAN
METHOD:PUBLISH
BEGIN:VEVENT
UID:event-9498@www.amse-aixmarseille.fr
DTSTAMP:20260421T110406Z
CREATED:20260421T110406Z
LAST-MODIFIED:20260421T110406Z
STATUS:CONFIRMED
SEQUENCE:0
SUMMARY:enseignement - Cérémonie de remise des diplômes
DTSTART:20221007T150000Z
DTEND:20221007T150000Z
DESCRIPTION: La cérémonie de remise des diplômes AMSE célébrant la c
 ohorte 2022 (Master et Magistère) aura lieu le vendredi 7 octobre à 17h
  à l'Artplexe Canebière (Marseille) et sera suivie d'un cocktail.Sylvie 
 GOULARD\, Sous-gouverneure de la Banque de France\, sera notre invitée d'e
 xception et parrainera la cérémonie.\\n\\nContact: infoecole[at]amse-aixm
 arseille.fr\n\nPlus d'informations: https://www.amse-aixmarseille.fr/fr/eve
 nements/c%C3%A9r%C3%A9monie-de-remise-des-dipl%C3%B4mes-0
URL;VALUE=URI:https://www.amse-aixmarseille.fr/fr/evenements/c%C3%A9r%C3%A9monie-de-remise-des-dipl%C3%B4mes-0
CONTACT:infoecole[at]amse-aixmarseille.fr
TRANSP:OPAQUE
END:VEVENT
END:VCALENDAR
