BEGIN:VCALENDAR
VERSION:2.0
PRODID:-//AMSE//Event Calendar//FR
CALSCALE:GREGORIAN
METHOD:PUBLISH
BEGIN:VEVENT
UID:event-9555@www.amse-aixmarseille.fr
DTSTAMP:20260421T152623Z
CREATED:20260421T152623Z
LAST-MODIFIED:20260421T152623Z
STATUS:CONFIRMED
SEQUENCE:0
SUMMARY:economic philosophy seminar - Alain Marciano
DTSTART:20221212T150000Z
DTEND:20221212T170000Z
DESCRIPTION:Written by James Buchanan in the early 1970s\, “The Samaritan
 's Dilemma” is a pessimistic essay\, marked by his author's negative view
 s about the situation in Western societies at that time. Yet\, the situatio
 n described in this essay also fits into Buchanan’s approach of cooperati
 on and free-riding. Put differently\, it is perfectly with Buchanan’s vie
 ws in public economics. This is what we aim at showing in this short articl
 e. Our demonstration develops in two parts. First\, we show that Buchanan's
  main argument about cooperation in the provision of public goods or remova
 l of externalities necessarily leads to situations such as the one describe
 d in the Samaritan's dilemma. Second\, we show that Buchanan did not take t
 he situation seriously until the end of the 1960s\, a few years before he w
 rote his essay on the dilemma.\\n\\nContact: Feriel Kandil : feriel.kandil
 [at]univ-amu.frMiriam Teschl : miriam.teschl[at]ehess.fr\n\nPlus d'informa
 tions: https://www.amse-aixmarseille.fr/fr/evenements/alain-marciano
LOCATION:Îlot Bernard du Bois - Salle 17\, AMU - AMSE\, 5-9 boulevard Maur
 ice Bourdet\, 13001 Marseille
URL;VALUE=URI:https://www.amse-aixmarseille.fr/fr/evenements/alain-marciano
CONTACT:Feriel Kandil :&nbsp\;feriel.kandil[at]univ-amu.frMiriam Teschl :&n
 bsp\;miriam.teschl[at]ehess.fr
TRANSP:OPAQUE
END:VEVENT
END:VCALENDAR
