BEGIN:VCALENDAR
VERSION:2.0
PRODID:-//AMSE//Event Calendar//FR
CALSCALE:GREGORIAN
METHOD:PUBLISH
BEGIN:VEVENT
UID:event-9571@www.amse-aixmarseille.fr
DTSTAMP:20260422T125626Z
CREATED:20260422T125626Z
LAST-MODIFIED:20260422T125626Z
STATUS:CONFIRMED
SEQUENCE:0
SUMMARY:big data and econometrics seminar - Sullivan Hué
DTSTART:20221108T130000Z
DTEND:20221108T143000Z
DESCRIPTION:\\n\\nContact: Michel Lubrano : michel.lubrano[at]univ-amu.frPi
 erre Michel : pierre.michel[at]univ-amu.fr\n\nPlus d'informations: https:/
 /www.amse-aixmarseille.fr/fr/evenements/sullivan-hu%C3%A9
LOCATION:Îlot Bernard du Bois - Salle 16\, AMU - AMSE\, 5-9 boulevard Maur
 ice Bourdet\, 13001 Marseille
URL;VALUE=URI:https://www.amse-aixmarseille.fr/fr/evenements/sullivan-hu%C3%A9
CONTACT:Michel Lubrano : michel.lubrano[at]univ-amu.frPierre Michel :&nbsp\
 ;pierre.michel[at]univ-amu.fr
TRANSP:OPAQUE
END:VEVENT
END:VCALENDAR
