BEGIN:VCALENDAR
VERSION:2.0
PRODID:-//AMSE//Event Calendar//FR
CALSCALE:GREGORIAN
METHOD:PUBLISH
BEGIN:VEVENT
UID:event-9577@www.amse-aixmarseille.fr
DTSTAMP:20260421T151429Z
CREATED:20260421T151429Z
LAST-MODIFIED:20260421T151429Z
STATUS:CONFIRMED
SEQUENCE:0
SUMMARY:soutenances de thèse - Anna Zaytseva
DTSTART:20221206T120000Z
DTEND:20221206T120000Z
DESCRIPTION:Plus d'informations: https://www.amse-aixmarseille.fr/fr/evenem
 ents/anna-zaytseva
LOCATION:Îlot Bernard du Bois - Amphithéâtre\, AMU - AMSE\, 5-9 boulevar
 d Maurice Bourdet\, 13001 Marseille
URL;VALUE=URI:https://www.amse-aixmarseille.fr/fr/evenements/anna-zaytseva
TRANSP:OPAQUE
END:VEVENT
END:VCALENDAR
