BEGIN:VCALENDAR
VERSION:2.0
PRODID:-//AMSE//Event Calendar//FR
CALSCALE:GREGORIAN
METHOD:PUBLISH
BEGIN:VEVENT
UID:event-9592@www.amse-aixmarseille.fr
DTSTAMP:20260422T143922Z
CREATED:20260422T143922Z
LAST-MODIFIED:20260422T143922Z
STATUS:CONFIRMED
SEQUENCE:0
SUMMARY:amse seminar - Emmanuelle Auriol
DTSTART:20221121T103000Z
DTEND:20221121T114500Z
DESCRIPTION:This paper elucidates the willingness of an autocrat to push th
 rough institutional reforms in a context where traditional authorities repr
 esented by religious clerics are averse to them and where the military cont
 rol the means of repression and can potentially make a coup. We show that a
 lthough the autocrat always wants to co-opt the military\, this is not nece
 ssarily true of the clerics. Exclusive co-option of the military obtains wh
 ere the loyalty of the autocrat’s army is strong while the organizational
  strength of religious movements is rather low. Radical institutional refor
 ms can then be implemented. Empirically\, the dominant regime in contempora
 ry Muslim countries is the regime of double co-option where the autocrat re
 sorts to a double-edged tactic: pleasing the official clerics by slowing th
 e pace of reforms\, and ensuring the loyalty of the military so as to put d
 own clerics-led rebellions.\\n\\nContact: Ewen Gallic : ewen.gallic[at]univ
 -amu.frAvner Seror : avner.seror[at]univ-amu.fr\n\nPlus d'informations: htt
 ps://www.amse-aixmarseille.fr/fr/evenements/emmanuelle-auriol
LOCATION:Îlot Bernard du Bois - Amphithéâtre\, AMU - AMSE\, 5-9 boulevar
 d Maurice Bourdet\, 13001 Marseille
URL;VALUE=URI:https://www.amse-aixmarseille.fr/fr/evenements/emmanuelle-auriol
CONTACT:Ewen Gallic : ewen.gallic[at]univ-amu.frAvner Seror : avner.seror[a
 t]univ-amu.fr
TRANSP:OPAQUE
END:VEVENT
END:VCALENDAR
