BEGIN:VCALENDAR
VERSION:2.0
PRODID:-//AMSE//Event Calendar//FR
CALSCALE:GREGORIAN
METHOD:PUBLISH
BEGIN:VEVENT
UID:event-9599@www.amse-aixmarseille.fr
DTSTAMP:20260422T113909Z
CREATED:20260422T113909Z
LAST-MODIFIED:20260422T113909Z
STATUS:CONFIRMED
SEQUENCE:0
SUMMARY:finance seminar - Iika Korhonen
DTSTART:20221025T123000Z
DTEND:20221025T123000Z
DESCRIPTION:In this presentation I shall examine the economic and financial
  effects of the war Russia started. The main focus will be on the economic 
 and financial effects on Russia itself. Sanctions\, general uncertainty and
  companies' own actions have already taken their toll on the Russian econom
 y\, and its capability to wage war has been reduced – both in terms of fi
 nancial as well as material resources. Growing decoupling from the rest of 
 the world also means slower growth going forward. Devastation – also in t
 erms of economic lessons – is largest for Ukraine\, obviously. The countr
 y’s reconstruction will require concentrated efforts of the international
  community for several years\, if not more. Russia’s war has also sparked
  off higher energy prices globally and especially in some European countrie
 s.\\n\\nContact: Eric Girardin : eric.girardin[at]univ-amu.frGaël Leboeuf 
 : gael.leboeuf[at]univ-amu.frChristelle Lecourt : christelle.lecourt[at]uni
 v-amu.fr\n\nPlus d'informations: https://www.amse-aixmarseille.fr/fr/evenem
 ents/iika-korhonen
URL;VALUE=URI:https://www.amse-aixmarseille.fr/fr/evenements/iika-korhonen
CONTACT:Eric Girardin : eric.girardin[at]univ-amu.frGaël Leboeuf : gael.le
 boeuf[at]univ-amu.frChristelle Lecourt : christelle.lecourt[at]univ-amu.fr
TRANSP:OPAQUE
END:VEVENT
END:VCALENDAR
