BEGIN:VCALENDAR
VERSION:2.0
PRODID:-//AMSE//Event Calendar//FR
CALSCALE:GREGORIAN
METHOD:PUBLISH
BEGIN:VEVENT
UID:event-9610@www.amse-aixmarseille.fr
DTSTAMP:20260421T120025Z
CREATED:20260421T120025Z
LAST-MODIFIED:20260421T120025Z
STATUS:CONFIRMED
SEQUENCE:0
SUMMARY:conférences/workshops - Tribute in honor of Gilbert Cette
DTSTART:20221110T080000Z
DTEND:20221110T173000Z
DESCRIPTION:\\n\\nContact: Alain Trannoy : alain.trannoy[at]univ-amu.fr\n\n
 Plus d'informations: https://www.amse-aixmarseille.fr/fr/evenements/tribute
 -honor-gilbert-cette
LOCATION:Îlot Bernard du Bois - Amphithéâtre\, AMU - AMSE\, 5-9 boulevar
 d Maurice Bourdet\, 13001 Marseille
URL;VALUE=URI:https://www.amse-aixmarseille.fr/fr/evenements/tribute-honor-gilbert-cette
CONTACT:Alain Trannoy : alain.trannoy[at]univ-amu.fr
TRANSP:OPAQUE
END:VEVENT
END:VCALENDAR
