BEGIN:VCALENDAR
VERSION:2.0
PRODID:-//AMSE//Event Calendar//FR
CALSCALE:GREGORIAN
METHOD:PUBLISH
BEGIN:VEVENT
UID:event-9679@www.amse-aixmarseille.fr
DTSTAMP:20260421T110419Z
CREATED:20260421T110419Z
LAST-MODIFIED:20260421T110419Z
STATUS:CONFIRMED
SEQUENCE:0
SUMMARY:confÃ©rences/workshops - 22e JournÃ©es Louis-AndrÃ© GÃ©rard-Varet
DTSTART:20230628T070000Z
DTEND:20230630T150000Z
DESCRIPTION:Â Les 22Ã¨mesÂ JournÃ©es Louis-AndrÃ© GÃ©rard-Varet se dÃ©roule
 ront duÂ mercredi 28 au vendredi 30Â juin 2023Â auÂ Palais du Pharo Ã  Mars
 eille.LAGV est l'une des plus importantes confÃ©rences annuelles d'Ã©conomi
 e publique en Europe. Elle vise Ã  promouvoir et Ã  diffuser une recherche 
 de haute qualitÃ©\, en mettant l'accent sur les articles qui Ã©clairent l'Ã
 ©laboration des politiques dans le monde rÃ©el.Â Nous accueillerons 3Â conf
 Ã©renciers :Karine NYBORG\, University of OsloDavid MARTIMORT\, Toulouse Sc
 hool of EconomicsMassimo MORELLI\, Bocconi UniversityPlus d'informations su
 r leÂ site dÃ©diÃ©.Â Â© Photo by ODIN Daniel on Adobe Stock\\n\\nContact: c
 ontact[at]amselagv.com\n\nPlus d'informations: https://www.amse-aixmarseill
 e.fr/fr/evenements/22e-journ%C3%A9es-louis-andr%C3%A9-g%C3%A9rard-varet
URL;VALUE=URI:https://www.amse-aixmarseille.fr/fr/evenements/22e-journ%C3%A9es-louis-andr%C3%A9-g%C3%A9rard-varet
CONTACT:contact[at]amselagv.com
TRANSP:OPAQUE
END:VEVENT
END:VCALENDAR
