BEGIN:VCALENDAR
VERSION:2.0
PRODID:-//AMSE//Event Calendar//FR
CALSCALE:GREGORIAN
METHOD:PUBLISH
BEGIN:VEVENT
UID:event-9708@www.amse-aixmarseille.fr
DTSTAMP:20260421T110225Z
CREATED:20260421T110225Z
LAST-MODIFIED:20260421T110225Z
STATUS:CONFIRMED
SEQUENCE:0
SUMMARY:confÃ©rences/workshops - QFFE 2023 (Quantitative Finance and Financ
 ial Econometrics) â€“ ConfÃ©rence et Ã‰cole de printemps
DTSTART:20230606T070000Z
DTEND:20230609T150000Z
DESCRIPTION:Â La 5Ã¨meÂ Ã©dition de la confÃ©rence internationale QFFE (Qua
 ntitative Finance and Financial Econometrics) se dÃ©roulera du jeudi 8 au v
 endredi 9Â juin 2023Â dans les locaux d'AMSE.Nous y accueillerons 2 confÃ©r
 enciers :Kris JACOBS\,Â C.T. Bauer College of Business\, University of Hous
 tonJun YU\,Â Singapore Management UniversityAinsi que 2 intervenants pour d
 es sessions "guest" :Ilze KALNINA\, North Carolina State UniversityEsther R
 uiz ORTEGA\, Department of Statistics\, Universidad Carlos III de MadridL'Ã
 ©cole de printemps QFFE prÃ©cÃ¨dera la confÃ©rence. Elle sera composÃ©e de 
 deux cours dispensÃ©s du mardi 6 juin au mercredi 7Â juin 2023Â par :Kris J
 ACOBS\,Â C.T. Bauer College of Business\, University of Houston -Â Specific
 ation and Estimation of Dynamic Option Valuation ModelsJun YU\,Â Singapore 
 Management University -Â Estimation\, Inference\, Prediction\, Identificati
 on of Fractional Time SeriesL'appel Ã  communications est disponibleÂ ICIÂ 
 \;Â Nous vous invitons Ã  regarder leÂ site dÃ©diÃ©Â pour plus dâ€™informat
 ions.\\n\\nContact: qffe2023[at]amse-aixmarseille.fr\n\nPlus d'informations
 : https://www.amse-aixmarseille.fr/fr/evenements/qffe-2023-quantitative-fin
 ance-and-financial-econometrics-%E2%80%93-conf%C3%A9rence-et-%C3%A9cole-de
LOCATION:ÃŽlot Bernard du Bois
URL;VALUE=URI:https://www.amse-aixmarseille.fr/fr/evenements/qffe-2023-quantitative-finance-and-financial-econometrics-%E2%80%93-conf%C3%A9rence-et-%C3%A9cole-de
CONTACT:qffe2023[at]amse-aixmarseille.fr
TRANSP:OPAQUE
END:VEVENT
END:VCALENDAR
