BEGIN:VCALENDAR
VERSION:2.0
PRODID:-//AMSE//Event Calendar//FR
CALSCALE:GREGORIAN
METHOD:PUBLISH
BEGIN:VEVENT
UID:event-9788@www.amse-aixmarseille.fr
DTSTAMP:20260421T130602Z
CREATED:20260421T130602Z
LAST-MODIFIED:20260421T130602Z
STATUS:CONFIRMED
SEQUENCE:0
SUMMARY:job market seminar - Suzanne Bellue
DTSTART:20230116T103000Z
DTEND:20230116T114500Z
DESCRIPTION:\\n\\nContact: Frédéric Deroïan : frederic.deroian[at]univ-
 amu.fr\n\nPlus d'informations: https://www.amse-aixmarseille.fr/fr/evenemen
 ts/suzanne-bellue
LOCATION:Îlot Bernard du Bois - Amphithéâtre\, AMU - AMSE\, 5-9 boulevar
 d Maurice Bourdet\, 13001 Marseille
URL;VALUE=URI:https://www.amse-aixmarseille.fr/fr/evenements/suzanne-bellue
CONTACT:Frédéric Deroïan :&nbsp\;frederic.deroian[at]univ-amu.fr
TRANSP:OPAQUE
END:VEVENT
END:VCALENDAR
