BEGIN:VCALENDAR
VERSION:2.0
PRODID:-//AMSE//Event Calendar//FR
CALSCALE:GREGORIAN
METHOD:PUBLISH
BEGIN:VEVENT
UID:event-9792@www.amse-aixmarseille.fr
DTSTAMP:20260421T130421Z
CREATED:20260421T130421Z
LAST-MODIFIED:20260421T130421Z
STATUS:CONFIRMED
SEQUENCE:0
SUMMARY:job market seminar - Francesco Rocciolo
DTSTART:20230113T103000Z
DTEND:20230113T114500Z
DESCRIPTION:\\n\\nContact: Frédéric Deroïan : frederic.deroian[at]univ-
 amu.fr\n\nPlus d'informations: https://www.amse-aixmarseille.fr/fr/evenemen
 ts/francesco-rocciolo
LOCATION:Îlot Bernard du Bois - Salle 24\, AMU - AMSE\, 5-9 boulevard Maur
 ice Bourdet\, 13001 Marseille
URL;VALUE=URI:https://www.amse-aixmarseille.fr/fr/evenements/francesco-rocciolo
CONTACT:Frédéric Deroïan :&nbsp\;frederic.deroian[at]univ-amu.fr
TRANSP:OPAQUE
END:VEVENT
END:VCALENDAR
